BEGIN:VCALENDAR
VERSION:2.0
PRODID:-//Kearney County - ECPv6.15.20//NONSGML v1.0//EN
CALSCALE:GREGORIAN
METHOD:PUBLISH
X-WR-CALNAME:Kearney County
X-ORIGINAL-URL:https://kearneycounty.ne.gov
X-WR-CALDESC:Events for Kearney County
REFRESH-INTERVAL;VALUE=DURATION:PT1H
X-Robots-Tag:noindex
X-PUBLISHED-TTL:PT1H
BEGIN:VTIMEZONE
TZID:America/Chicago
BEGIN:DAYLIGHT
TZOFFSETFROM:-0600
TZOFFSETTO:-0500
TZNAME:CDT
DTSTART:20290311T080000
END:DAYLIGHT
BEGIN:STANDARD
TZOFFSETFROM:-0500
TZOFFSETTO:-0600
TZNAME:CST
DTSTART:20291104T070000
END:STANDARD
BEGIN:DAYLIGHT
TZOFFSETFROM:-0600
TZOFFSETTO:-0500
TZNAME:CDT
DTSTART:20300310T080000
END:DAYLIGHT
BEGIN:STANDARD
TZOFFSETFROM:-0500
TZOFFSETTO:-0600
TZNAME:CST
DTSTART:20301103T070000
END:STANDARD
BEGIN:DAYLIGHT
TZOFFSETFROM:-0600
TZOFFSETTO:-0500
TZNAME:CDT
DTSTART:20310309T080000
END:DAYLIGHT
BEGIN:STANDARD
TZOFFSETFROM:-0500
TZOFFSETTO:-0600
TZNAME:CST
DTSTART:20311102T070000
END:STANDARD
END:VTIMEZONE
BEGIN:VEVENT
DTSTART;TZID=America/Chicago:20300604T093000
DTEND;TZID=America/Chicago:20300604T093000
DTSTAMP:20260425T172112
CREATED:20251231T210032Z
LAST-MODIFIED:20251231T210032Z
UID:10000532-1906795800-1906795800@kearneycounty.ne.gov
SUMMARY:County Board Meeting
DESCRIPTION:This is a county board meeting. An agenda can be found on the Board Meetings page.
URL:https://kearneycounty.ne.gov/event/county-board-meeting/2030-06-04/
LOCATION:Kearney County Courthouse\, 424 N Colorado\, Minden\, NE\, 68959\, United States
CATEGORIES:County Board Meeting
END:VEVENT
BEGIN:VEVENT
DTSTART;TZID=America/Chicago:20300605T090000
DTEND;TZID=America/Chicago:20300605T163000
DTSTAMP:20260425T172112
CREATED:20251231T210257Z
LAST-MODIFIED:20251231T210257Z
UID:10000770-1906880400-1906907400@kearneycounty.ne.gov
SUMMARY:Driver's License Examiner
DESCRIPTION:2nd Floor Kearney County Courthouse
URL:https://kearneycounty.ne.gov/event/drivers-license-examiner/2030-06-05/
LOCATION:Kearney County Courthouse\, 424 N Colorado\, Minden\, NE\, 68959\, United States
END:VEVENT
BEGIN:VEVENT
DTSTART;TZID=America/Chicago:20300612T090000
DTEND;TZID=America/Chicago:20300612T163000
DTSTAMP:20260425T172112
CREATED:20251231T210257Z
LAST-MODIFIED:20251231T210257Z
UID:10000771-1907485200-1907512200@kearneycounty.ne.gov
SUMMARY:Driver's License Examiner
DESCRIPTION:2nd Floor Kearney County Courthouse
URL:https://kearneycounty.ne.gov/event/drivers-license-examiner/2030-06-12/
LOCATION:Kearney County Courthouse\, 424 N Colorado\, Minden\, NE\, 68959\, United States
END:VEVENT
BEGIN:VEVENT
DTSTART;TZID=America/Chicago:20300618T093000
DTEND;TZID=America/Chicago:20300618T093000
DTSTAMP:20260425T172112
CREATED:20251231T205439Z
LAST-MODIFIED:20251231T205440Z
UID:10000412-1908005400-1908005400@kearneycounty.ne.gov
SUMMARY:County Board Meeting
DESCRIPTION:This is a county board meeting. An agenda can be found on the Board Meetings page.
URL:https://kearneycounty.ne.gov/event/county-board-meeting-2/2030-06-18/
LOCATION:Kearney County Courthouse\, 424 N Colorado\, Minden\, NE\, 68959\, United States
CATEGORIES:County Board Meeting
END:VEVENT
BEGIN:VEVENT
DTSTART;TZID=America/Chicago:20300619T000000
DTEND;TZID=America/Chicago:20300619T235959
DTSTAMP:20260425T172112
CREATED:20240429T211306Z
LAST-MODIFIED:20241212T170639Z
UID:10000342-1908057600-1908143999@kearneycounty.ne.gov
SUMMARY:Juneteenth - Closed
DESCRIPTION:All Offices Closed
URL:https://kearneycounty.ne.gov/event/juneteenth/2030-06-19/
LOCATION:NE
CATEGORIES:Holiday
END:VEVENT
BEGIN:VEVENT
DTSTART;TZID=America/Chicago:20300619T090000
DTEND;TZID=America/Chicago:20300619T163000
DTSTAMP:20260425T172112
CREATED:20251231T210257Z
LAST-MODIFIED:20251231T210257Z
UID:10000772-1908090000-1908117000@kearneycounty.ne.gov
SUMMARY:Driver's License Examiner
DESCRIPTION:2nd Floor Kearney County Courthouse
URL:https://kearneycounty.ne.gov/event/drivers-license-examiner/2030-06-19/
LOCATION:Kearney County Courthouse\, 424 N Colorado\, Minden\, NE\, 68959\, United States
END:VEVENT
BEGIN:VEVENT
DTSTART;TZID=America/Chicago:20300626T090000
DTEND;TZID=America/Chicago:20300626T163000
DTSTAMP:20260425T172112
CREATED:20251231T210257Z
LAST-MODIFIED:20251231T210257Z
UID:10000773-1908694800-1908721800@kearneycounty.ne.gov
SUMMARY:Driver's License Examiner
DESCRIPTION:2nd Floor Kearney County Courthouse
URL:https://kearneycounty.ne.gov/event/drivers-license-examiner/2030-06-26/
LOCATION:Kearney County Courthouse\, 424 N Colorado\, Minden\, NE\, 68959\, United States
END:VEVENT
END:VCALENDAR