BEGIN:VCALENDAR
VERSION:2.0
PRODID:-//Kearney County - ECPv6.15.20//NONSGML v1.0//EN
CALSCALE:GREGORIAN
METHOD:PUBLISH
X-ORIGINAL-URL:https://kearneycounty.ne.gov
X-WR-CALDESC:Events for Kearney County
REFRESH-INTERVAL;VALUE=DURATION:PT1H
X-Robots-Tag:noindex
X-PUBLISHED-TTL:PT1H
BEGIN:VTIMEZONE
TZID:America/Chicago
BEGIN:DAYLIGHT
TZOFFSETFROM:-0600
TZOFFSETTO:-0500
TZNAME:CDT
DTSTART:20290311T080000
END:DAYLIGHT
BEGIN:STANDARD
TZOFFSETFROM:-0500
TZOFFSETTO:-0600
TZNAME:CST
DTSTART:20291104T070000
END:STANDARD
BEGIN:DAYLIGHT
TZOFFSETFROM:-0600
TZOFFSETTO:-0500
TZNAME:CDT
DTSTART:20300310T080000
END:DAYLIGHT
BEGIN:STANDARD
TZOFFSETFROM:-0500
TZOFFSETTO:-0600
TZNAME:CST
DTSTART:20301103T070000
END:STANDARD
BEGIN:DAYLIGHT
TZOFFSETFROM:-0600
TZOFFSETTO:-0500
TZNAME:CDT
DTSTART:20310309T080000
END:DAYLIGHT
BEGIN:STANDARD
TZOFFSETFROM:-0500
TZOFFSETTO:-0600
TZNAME:CST
DTSTART:20311102T070000
END:STANDARD
END:VTIMEZONE
BEGIN:VEVENT
DTSTART;TZID=America/Chicago:20300501T090000
DTEND;TZID=America/Chicago:20300501T163000
DTSTAMP:20260425T082832
CREATED:20251231T210257Z
LAST-MODIFIED:20251231T210257Z
UID:10000765-1903856400-1903883400@kearneycounty.ne.gov
SUMMARY:Driver's License Examiner
DESCRIPTION:2nd Floor Kearney County Courthouse
URL:https://kearneycounty.ne.gov/event/drivers-license-examiner/2030-05-01/
LOCATION:Kearney County Courthouse\, 424 N Colorado\, Minden\, NE\, 68959\, United States
END:VEVENT
BEGIN:VEVENT
DTSTART;TZID=America/Chicago:20300507T093000
DTEND;TZID=America/Chicago:20300507T093000
DTSTAMP:20260425T082832
CREATED:20251231T210032Z
LAST-MODIFIED:20251231T210032Z
UID:10000531-1904376600-1904376600@kearneycounty.ne.gov
SUMMARY:County Board Meeting
DESCRIPTION:This is a county board meeting. An agenda can be found on the Board Meetings page.
URL:https://kearneycounty.ne.gov/event/county-board-meeting/2030-05-07/
LOCATION:Kearney County Courthouse\, 424 N Colorado\, Minden\, NE\, 68959\, United States
CATEGORIES:County Board Meeting
END:VEVENT
BEGIN:VEVENT
DTSTART;TZID=America/Chicago:20300508T090000
DTEND;TZID=America/Chicago:20300508T163000
DTSTAMP:20260425T082832
CREATED:20251231T210257Z
LAST-MODIFIED:20251231T210257Z
UID:10000766-1904461200-1904488200@kearneycounty.ne.gov
SUMMARY:Driver's License Examiner
DESCRIPTION:2nd Floor Kearney County Courthouse
URL:https://kearneycounty.ne.gov/event/drivers-license-examiner/2030-05-08/
LOCATION:Kearney County Courthouse\, 424 N Colorado\, Minden\, NE\, 68959\, United States
END:VEVENT
BEGIN:VEVENT
DTSTART;TZID=America/Chicago:20300515T090000
DTEND;TZID=America/Chicago:20300515T163000
DTSTAMP:20260425T082832
CREATED:20251231T210257Z
LAST-MODIFIED:20251231T210257Z
UID:10000767-1905066000-1905093000@kearneycounty.ne.gov
SUMMARY:Driver's License Examiner
DESCRIPTION:2nd Floor Kearney County Courthouse
URL:https://kearneycounty.ne.gov/event/drivers-license-examiner/2030-05-15/
LOCATION:Kearney County Courthouse\, 424 N Colorado\, Minden\, NE\, 68959\, United States
END:VEVENT
BEGIN:VEVENT
DTSTART;TZID=America/Chicago:20300521T093000
DTEND;TZID=America/Chicago:20300521T093000
DTSTAMP:20260425T082832
CREATED:20251231T205439Z
LAST-MODIFIED:20251231T205440Z
UID:10000411-1905586200-1905586200@kearneycounty.ne.gov
SUMMARY:County Board Meeting
DESCRIPTION:This is a county board meeting. An agenda can be found on the Board Meetings page.
URL:https://kearneycounty.ne.gov/event/county-board-meeting-2/2030-05-21/
LOCATION:Kearney County Courthouse\, 424 N Colorado\, Minden\, NE\, 68959\, United States
CATEGORIES:County Board Meeting
END:VEVENT
BEGIN:VEVENT
DTSTART;TZID=America/Chicago:20300522T090000
DTEND;TZID=America/Chicago:20300522T163000
DTSTAMP:20260425T082832
CREATED:20251231T210257Z
LAST-MODIFIED:20251231T210257Z
UID:10000768-1905670800-1905697800@kearneycounty.ne.gov
SUMMARY:Driver's License Examiner
DESCRIPTION:2nd Floor Kearney County Courthouse
URL:https://kearneycounty.ne.gov/event/drivers-license-examiner/2030-05-22/
LOCATION:Kearney County Courthouse\, 424 N Colorado\, Minden\, NE\, 68959\, United States
END:VEVENT
BEGIN:VEVENT
DTSTART;TZID=America/Chicago:20300527T000000
DTEND;TZID=America/Chicago:20300527T235959
DTSTAMP:20260425T082832
CREATED:20240429T202532Z
LAST-MODIFIED:20241212T170643Z
UID:10000340-1906070400-1906156799@kearneycounty.ne.gov
SUMMARY:Memorial Day - Closed
DESCRIPTION:All Offices Closed
URL:https://kearneycounty.ne.gov/event/memorial-day/2030-05-27/
LOCATION:NE
CATEGORIES:Holiday
END:VEVENT
BEGIN:VEVENT
DTSTART;TZID=America/Chicago:20300529T090000
DTEND;TZID=America/Chicago:20300529T163000
DTSTAMP:20260425T082832
CREATED:20251231T210257Z
LAST-MODIFIED:20251231T210257Z
UID:10000769-1906275600-1906302600@kearneycounty.ne.gov
SUMMARY:Driver's License Examiner
DESCRIPTION:2nd Floor Kearney County Courthouse
URL:https://kearneycounty.ne.gov/event/drivers-license-examiner/2030-05-29/
LOCATION:Kearney County Courthouse\, 424 N Colorado\, Minden\, NE\, 68959\, United States
END:VEVENT
END:VCALENDAR