BEGIN:VCALENDAR
VERSION:2.0
PRODID:-//Kearney County - ECPv6.15.20//NONSGML v1.0//EN
CALSCALE:GREGORIAN
METHOD:PUBLISH
X-ORIGINAL-URL:https://kearneycounty.ne.gov
X-WR-CALDESC:Events for Kearney County
REFRESH-INTERVAL;VALUE=DURATION:PT1H
X-Robots-Tag:noindex
X-PUBLISHED-TTL:PT1H
BEGIN:VTIMEZONE
TZID:America/Chicago
BEGIN:DAYLIGHT
TZOFFSETFROM:-0600
TZOFFSETTO:-0500
TZNAME:CDT
DTSTART:20290311T080000
END:DAYLIGHT
BEGIN:STANDARD
TZOFFSETFROM:-0500
TZOFFSETTO:-0600
TZNAME:CST
DTSTART:20291104T070000
END:STANDARD
BEGIN:DAYLIGHT
TZOFFSETFROM:-0600
TZOFFSETTO:-0500
TZNAME:CDT
DTSTART:20300310T080000
END:DAYLIGHT
BEGIN:STANDARD
TZOFFSETFROM:-0500
TZOFFSETTO:-0600
TZNAME:CST
DTSTART:20301103T070000
END:STANDARD
BEGIN:DAYLIGHT
TZOFFSETFROM:-0600
TZOFFSETTO:-0500
TZNAME:CDT
DTSTART:20310309T080000
END:DAYLIGHT
BEGIN:STANDARD
TZOFFSETFROM:-0500
TZOFFSETTO:-0600
TZNAME:CST
DTSTART:20311102T070000
END:STANDARD
END:VTIMEZONE
BEGIN:VEVENT
DTSTART;TZID=America/Chicago:20300402T093000
DTEND;TZID=America/Chicago:20300402T093000
DTSTAMP:20260425T115342
CREATED:20251231T210032Z
LAST-MODIFIED:20251231T210032Z
UID:10000530-1901352600-1901352600@kearneycounty.ne.gov
SUMMARY:County Board Meeting
DESCRIPTION:This is a county board meeting. An agenda can be found on the Board Meetings page.
URL:https://kearneycounty.ne.gov/event/county-board-meeting/2030-04-02/
LOCATION:Kearney County Courthouse\, 424 N Colorado\, Minden\, NE\, 68959\, United States
CATEGORIES:County Board Meeting
END:VEVENT
BEGIN:VEVENT
DTSTART;TZID=America/Chicago:20300403T090000
DTEND;TZID=America/Chicago:20300403T163000
DTSTAMP:20260425T115342
CREATED:20251231T210257Z
LAST-MODIFIED:20251231T210257Z
UID:10000761-1901437200-1901464200@kearneycounty.ne.gov
SUMMARY:Driver's License Examiner
DESCRIPTION:2nd Floor Kearney County Courthouse
URL:https://kearneycounty.ne.gov/event/drivers-license-examiner/2030-04-03/
LOCATION:Kearney County Courthouse\, 424 N Colorado\, Minden\, NE\, 68959\, United States
END:VEVENT
BEGIN:VEVENT
DTSTART;TZID=America/Chicago:20300410T090000
DTEND;TZID=America/Chicago:20300410T163000
DTSTAMP:20260425T115342
CREATED:20251231T210257Z
LAST-MODIFIED:20251231T210257Z
UID:10000762-1902042000-1902069000@kearneycounty.ne.gov
SUMMARY:Driver's License Examiner
DESCRIPTION:2nd Floor Kearney County Courthouse
URL:https://kearneycounty.ne.gov/event/drivers-license-examiner/2030-04-10/
LOCATION:Kearney County Courthouse\, 424 N Colorado\, Minden\, NE\, 68959\, United States
END:VEVENT
BEGIN:VEVENT
DTSTART;TZID=America/Chicago:20300416T093000
DTEND;TZID=America/Chicago:20300416T093000
DTSTAMP:20260425T115342
CREATED:20251231T205439Z
LAST-MODIFIED:20251231T205440Z
UID:10000410-1902562200-1902562200@kearneycounty.ne.gov
SUMMARY:County Board Meeting
DESCRIPTION:This is a county board meeting. An agenda can be found on the Board Meetings page.
URL:https://kearneycounty.ne.gov/event/county-board-meeting-2/2030-04-16/
LOCATION:Kearney County Courthouse\, 424 N Colorado\, Minden\, NE\, 68959\, United States
CATEGORIES:County Board Meeting
END:VEVENT
BEGIN:VEVENT
DTSTART;TZID=America/Chicago:20300417T090000
DTEND;TZID=America/Chicago:20300417T163000
DTSTAMP:20260425T115342
CREATED:20251231T210257Z
LAST-MODIFIED:20251231T210257Z
UID:10000763-1902646800-1902673800@kearneycounty.ne.gov
SUMMARY:Driver's License Examiner
DESCRIPTION:2nd Floor Kearney County Courthouse
URL:https://kearneycounty.ne.gov/event/drivers-license-examiner/2030-04-17/
LOCATION:Kearney County Courthouse\, 424 N Colorado\, Minden\, NE\, 68959\, United States
END:VEVENT
BEGIN:VEVENT
DTSTART;TZID=America/Chicago:20300424T090000
DTEND;TZID=America/Chicago:20300424T163000
DTSTAMP:20260425T115342
CREATED:20251231T210257Z
LAST-MODIFIED:20251231T210257Z
UID:10000764-1903251600-1903278600@kearneycounty.ne.gov
SUMMARY:Driver's License Examiner
DESCRIPTION:2nd Floor Kearney County Courthouse
URL:https://kearneycounty.ne.gov/event/drivers-license-examiner/2030-04-24/
LOCATION:Kearney County Courthouse\, 424 N Colorado\, Minden\, NE\, 68959\, United States
END:VEVENT
BEGIN:VEVENT
DTSTART;VALUE=DATE:20300426
DTEND;VALUE=DATE:20300427
DTSTAMP:20260425T115342
CREATED:20260127T143126Z
LAST-MODIFIED:20260127T143126Z
UID:10000807-1903392000-1903478399@kearneycounty.ne.gov
SUMMARY:Arbor Day - Closed
DESCRIPTION:All Offices Closed.
URL:https://kearneycounty.ne.gov/event/arbor-day-closed/2030-04-26/
LOCATION:NE
CATEGORIES:Holiday
END:VEVENT
END:VCALENDAR