BEGIN:VCALENDAR
VERSION:2.0
PRODID:-//Kearney County - ECPv6.15.20//NONSGML v1.0//EN
CALSCALE:GREGORIAN
METHOD:PUBLISH
X-ORIGINAL-URL:https://kearneycounty.ne.gov
X-WR-CALDESC:Events for Kearney County
REFRESH-INTERVAL;VALUE=DURATION:PT1H
X-Robots-Tag:noindex
X-PUBLISHED-TTL:PT1H
BEGIN:VTIMEZONE
TZID:America/Chicago
BEGIN:DAYLIGHT
TZOFFSETFROM:-0600
TZOFFSETTO:-0500
TZNAME:CDT
DTSTART:20290311T080000
END:DAYLIGHT
BEGIN:STANDARD
TZOFFSETFROM:-0500
TZOFFSETTO:-0600
TZNAME:CST
DTSTART:20291104T070000
END:STANDARD
BEGIN:DAYLIGHT
TZOFFSETFROM:-0600
TZOFFSETTO:-0500
TZNAME:CDT
DTSTART:20300310T080000
END:DAYLIGHT
BEGIN:STANDARD
TZOFFSETFROM:-0500
TZOFFSETTO:-0600
TZNAME:CST
DTSTART:20301103T070000
END:STANDARD
BEGIN:DAYLIGHT
TZOFFSETFROM:-0600
TZOFFSETTO:-0500
TZNAME:CDT
DTSTART:20310309T080000
END:DAYLIGHT
BEGIN:STANDARD
TZOFFSETFROM:-0500
TZOFFSETTO:-0600
TZNAME:CST
DTSTART:20311102T070000
END:STANDARD
END:VTIMEZONE
BEGIN:VEVENT
DTSTART;TZID=America/Chicago:20300101T000000
DTEND;TZID=America/Chicago:20300101T235959
DTSTAMP:20260425T082834
CREATED:20240730T161545Z
LAST-MODIFIED:20241212T170650Z
UID:10000333-1893456000-1893542399@kearneycounty.ne.gov
SUMMARY:New Year's Day - Closed
DESCRIPTION:All Offices Closed
URL:https://kearneycounty.ne.gov/event/new-years-day/2030-01-01/
LOCATION:NE
CATEGORIES:Holiday
END:VEVENT
BEGIN:VEVENT
DTSTART;TZID=America/Chicago:20300101T093000
DTEND;TZID=America/Chicago:20300101T093000
DTSTAMP:20260425T082834
CREATED:20251231T210032Z
LAST-MODIFIED:20251231T210032Z
UID:10000527-1893490200-1893490200@kearneycounty.ne.gov
SUMMARY:County Board Meeting
DESCRIPTION:This is a county board meeting. An agenda can be found on the Board Meetings page.
URL:https://kearneycounty.ne.gov/event/county-board-meeting/2030-01-01/
LOCATION:Kearney County Courthouse\, 424 N Colorado\, Minden\, NE\, 68959\, United States
CATEGORIES:County Board Meeting
END:VEVENT
BEGIN:VEVENT
DTSTART;TZID=America/Chicago:20300102T090000
DTEND;TZID=America/Chicago:20300102T163000
DTSTAMP:20260425T082834
CREATED:20251231T210257Z
LAST-MODIFIED:20251231T210257Z
UID:10000748-1893574800-1893601800@kearneycounty.ne.gov
SUMMARY:Driver's License Examiner
DESCRIPTION:2nd Floor Kearney County Courthouse
URL:https://kearneycounty.ne.gov/event/drivers-license-examiner/2030-01-02/
LOCATION:Kearney County Courthouse\, 424 N Colorado\, Minden\, NE\, 68959\, United States
END:VEVENT
BEGIN:VEVENT
DTSTART;TZID=America/Chicago:20300109T090000
DTEND;TZID=America/Chicago:20300109T163000
DTSTAMP:20260425T082834
CREATED:20251231T210257Z
LAST-MODIFIED:20251231T210257Z
UID:10000749-1894179600-1894206600@kearneycounty.ne.gov
SUMMARY:Driver's License Examiner
DESCRIPTION:2nd Floor Kearney County Courthouse
URL:https://kearneycounty.ne.gov/event/drivers-license-examiner/2030-01-09/
LOCATION:Kearney County Courthouse\, 424 N Colorado\, Minden\, NE\, 68959\, United States
END:VEVENT
BEGIN:VEVENT
DTSTART;TZID=America/Chicago:20300115T093000
DTEND;TZID=America/Chicago:20300115T093000
DTSTAMP:20260425T082834
CREATED:20251231T205439Z
LAST-MODIFIED:20251231T205440Z
UID:10000407-1894699800-1894699800@kearneycounty.ne.gov
SUMMARY:County Board Meeting
DESCRIPTION:This is a county board meeting. An agenda can be found on the Board Meetings page.
URL:https://kearneycounty.ne.gov/event/county-board-meeting-2/2030-01-15/
LOCATION:Kearney County Courthouse\, 424 N Colorado\, Minden\, NE\, 68959\, United States
CATEGORIES:County Board Meeting
END:VEVENT
BEGIN:VEVENT
DTSTART;TZID=America/Chicago:20300116T090000
DTEND;TZID=America/Chicago:20300116T163000
DTSTAMP:20260425T082834
CREATED:20251231T210257Z
LAST-MODIFIED:20251231T210257Z
UID:10000750-1894784400-1894811400@kearneycounty.ne.gov
SUMMARY:Driver's License Examiner
DESCRIPTION:2nd Floor Kearney County Courthouse
URL:https://kearneycounty.ne.gov/event/drivers-license-examiner/2030-01-16/
LOCATION:Kearney County Courthouse\, 424 N Colorado\, Minden\, NE\, 68959\, United States
END:VEVENT
BEGIN:VEVENT
DTSTART;TZID=America/Chicago:20300121T080000
DTEND;TZID=America/Chicago:20300121T170000
DTSTAMP:20260425T082834
CREATED:20240730T161350Z
LAST-MODIFIED:20241212T170647Z
UID:10000801-1895212800-1895245200@kearneycounty.ne.gov
SUMMARY:Martin Luther King Jr. Day - Closed
DESCRIPTION:All Offices Closed.
URL:https://kearneycounty.ne.gov/event/martin-luther-king-jr-day/2030-01-21/
LOCATION:NE
CATEGORIES:Holiday
END:VEVENT
BEGIN:VEVENT
DTSTART;TZID=America/Chicago:20300123T090000
DTEND;TZID=America/Chicago:20300123T163000
DTSTAMP:20260425T082834
CREATED:20251231T210257Z
LAST-MODIFIED:20251231T210257Z
UID:10000751-1895389200-1895416200@kearneycounty.ne.gov
SUMMARY:Driver's License Examiner
DESCRIPTION:2nd Floor Kearney County Courthouse
URL:https://kearneycounty.ne.gov/event/drivers-license-examiner/2030-01-23/
LOCATION:Kearney County Courthouse\, 424 N Colorado\, Minden\, NE\, 68959\, United States
END:VEVENT
BEGIN:VEVENT
DTSTART;TZID=America/Chicago:20300130T090000
DTEND;TZID=America/Chicago:20300130T163000
DTSTAMP:20260425T082834
CREATED:20251231T210257Z
LAST-MODIFIED:20251231T210257Z
UID:10000752-1895994000-1896021000@kearneycounty.ne.gov
SUMMARY:Driver's License Examiner
DESCRIPTION:2nd Floor Kearney County Courthouse
URL:https://kearneycounty.ne.gov/event/drivers-license-examiner/2030-01-30/
LOCATION:Kearney County Courthouse\, 424 N Colorado\, Minden\, NE\, 68959\, United States
END:VEVENT
END:VCALENDAR