BEGIN:VCALENDAR
VERSION:2.0
PRODID:-//Kearney County - ECPv6.15.20//NONSGML v1.0//EN
CALSCALE:GREGORIAN
METHOD:PUBLISH
X-ORIGINAL-URL:https://kearneycounty.ne.gov
X-WR-CALDESC:Events for Kearney County
REFRESH-INTERVAL;VALUE=DURATION:PT1H
X-Robots-Tag:noindex
X-PUBLISHED-TTL:PT1H
BEGIN:VTIMEZONE
TZID:America/Chicago
BEGIN:DAYLIGHT
TZOFFSETFROM:-0600
TZOFFSETTO:-0500
TZNAME:CDT
DTSTART:20280312T080000
END:DAYLIGHT
BEGIN:STANDARD
TZOFFSETFROM:-0500
TZOFFSETTO:-0600
TZNAME:CST
DTSTART:20281105T070000
END:STANDARD
BEGIN:DAYLIGHT
TZOFFSETFROM:-0600
TZOFFSETTO:-0500
TZNAME:CDT
DTSTART:20290311T080000
END:DAYLIGHT
BEGIN:STANDARD
TZOFFSETFROM:-0500
TZOFFSETTO:-0600
TZNAME:CST
DTSTART:20291104T070000
END:STANDARD
BEGIN:DAYLIGHT
TZOFFSETFROM:-0600
TZOFFSETTO:-0500
TZNAME:CDT
DTSTART:20300310T080000
END:DAYLIGHT
BEGIN:STANDARD
TZOFFSETFROM:-0500
TZOFFSETTO:-0600
TZNAME:CST
DTSTART:20301103T070000
END:STANDARD
END:VTIMEZONE
BEGIN:VEVENT
DTSTART;TZID=America/Chicago:20291106T093000
DTEND;TZID=America/Chicago:20291106T093000
DTSTAMP:20260424T024437
CREATED:20251231T210032Z
LAST-MODIFIED:20251231T210032Z
UID:10000525-1888651800-1888651800@kearneycounty.ne.gov
SUMMARY:County Board Meeting
DESCRIPTION:This is a county board meeting. An agenda can be found on the Board Meetings page.
URL:https://kearneycounty.ne.gov/event/county-board-meeting/2029-11-06/
LOCATION:Kearney County Courthouse\, 424 N Colorado\, Minden\, NE\, 68959\, United States
CATEGORIES:County Board Meeting
END:VEVENT
BEGIN:VEVENT
DTSTART;TZID=America/Chicago:20291107T090000
DTEND;TZID=America/Chicago:20291107T163000
DTSTAMP:20260424T024437
CREATED:20251231T210257Z
LAST-MODIFIED:20251231T210257Z
UID:10000740-1888736400-1888763400@kearneycounty.ne.gov
SUMMARY:Driver's License Examiner
DESCRIPTION:2nd Floor Kearney County Courthouse
URL:https://kearneycounty.ne.gov/event/drivers-license-examiner/2029-11-07/
LOCATION:Kearney County Courthouse\, 424 N Colorado\, Minden\, NE\, 68959\, United States
END:VEVENT
BEGIN:VEVENT
DTSTART;TZID=America/Chicago:20291111T000000
DTEND;TZID=America/Chicago:20291111T235959
DTSTAMP:20260424T024437
CREATED:20240429T211701Z
LAST-MODIFIED:20241212T170626Z
UID:10000352-1889049600-1889135999@kearneycounty.ne.gov
SUMMARY:Veteran's Day - Closed
DESCRIPTION:All Offices Closed
URL:https://kearneycounty.ne.gov/event/veterans-day/2029-11-11/
LOCATION:NE
CATEGORIES:Holiday
END:VEVENT
BEGIN:VEVENT
DTSTART;TZID=America/Chicago:20291114T090000
DTEND;TZID=America/Chicago:20291114T163000
DTSTAMP:20260424T024437
CREATED:20251231T210257Z
LAST-MODIFIED:20251231T210257Z
UID:10000741-1889341200-1889368200@kearneycounty.ne.gov
SUMMARY:Driver's License Examiner
DESCRIPTION:2nd Floor Kearney County Courthouse
URL:https://kearneycounty.ne.gov/event/drivers-license-examiner/2029-11-14/
LOCATION:Kearney County Courthouse\, 424 N Colorado\, Minden\, NE\, 68959\, United States
END:VEVENT
BEGIN:VEVENT
DTSTART;TZID=America/Chicago:20291120T093000
DTEND;TZID=America/Chicago:20291120T093000
DTSTAMP:20260424T024437
CREATED:20251231T205439Z
LAST-MODIFIED:20251231T205440Z
UID:10000405-1889861400-1889861400@kearneycounty.ne.gov
SUMMARY:County Board Meeting
DESCRIPTION:This is a county board meeting. An agenda can be found on the Board Meetings page.
URL:https://kearneycounty.ne.gov/event/county-board-meeting-2/2029-11-20/
LOCATION:Kearney County Courthouse\, 424 N Colorado\, Minden\, NE\, 68959\, United States
CATEGORIES:County Board Meeting
END:VEVENT
BEGIN:VEVENT
DTSTART;TZID=America/Chicago:20291121T090000
DTEND;TZID=America/Chicago:20291121T163000
DTSTAMP:20260424T024437
CREATED:20251231T210257Z
LAST-MODIFIED:20251231T210257Z
UID:10000742-1889946000-1889973000@kearneycounty.ne.gov
SUMMARY:Driver's License Examiner
DESCRIPTION:2nd Floor Kearney County Courthouse
URL:https://kearneycounty.ne.gov/event/drivers-license-examiner/2029-11-21/
LOCATION:Kearney County Courthouse\, 424 N Colorado\, Minden\, NE\, 68959\, United States
END:VEVENT
BEGIN:VEVENT
DTSTART;TZID=America/Chicago:20291122T000000
DTEND;TZID=America/Chicago:20291123T235959
DTSTAMP:20260424T024437
CREATED:20240429T211743Z
LAST-MODIFIED:20241212T170623Z
UID:10000354-1890000000-1890172799@kearneycounty.ne.gov
SUMMARY:Thanksgiving - Closed
DESCRIPTION:All Offices Closed
URL:https://kearneycounty.ne.gov/event/thanksgiving/2029-11-22/
LOCATION:NE
CATEGORIES:Holiday
END:VEVENT
BEGIN:VEVENT
DTSTART;TZID=America/Chicago:20291128T090000
DTEND;TZID=America/Chicago:20291128T163000
DTSTAMP:20260424T024437
CREATED:20251231T210257Z
LAST-MODIFIED:20251231T210257Z
UID:10000743-1890550800-1890577800@kearneycounty.ne.gov
SUMMARY:Driver's License Examiner
DESCRIPTION:2nd Floor Kearney County Courthouse
URL:https://kearneycounty.ne.gov/event/drivers-license-examiner/2029-11-28/
LOCATION:Kearney County Courthouse\, 424 N Colorado\, Minden\, NE\, 68959\, United States
END:VEVENT
END:VCALENDAR