BEGIN:VCALENDAR
VERSION:2.0
PRODID:-//Kearney County - ECPv6.15.20//NONSGML v1.0//EN
CALSCALE:GREGORIAN
METHOD:PUBLISH
X-ORIGINAL-URL:https://kearneycounty.ne.gov
X-WR-CALDESC:Events for Kearney County
REFRESH-INTERVAL;VALUE=DURATION:PT1H
X-Robots-Tag:noindex
X-PUBLISHED-TTL:PT1H
BEGIN:VTIMEZONE
TZID:America/Chicago
BEGIN:DAYLIGHT
TZOFFSETFROM:-0600
TZOFFSETTO:-0500
TZNAME:CDT
DTSTART:20280312T080000
END:DAYLIGHT
BEGIN:STANDARD
TZOFFSETFROM:-0500
TZOFFSETTO:-0600
TZNAME:CST
DTSTART:20281105T070000
END:STANDARD
BEGIN:DAYLIGHT
TZOFFSETFROM:-0600
TZOFFSETTO:-0500
TZNAME:CDT
DTSTART:20290311T080000
END:DAYLIGHT
BEGIN:STANDARD
TZOFFSETFROM:-0500
TZOFFSETTO:-0600
TZNAME:CST
DTSTART:20291104T070000
END:STANDARD
BEGIN:DAYLIGHT
TZOFFSETFROM:-0600
TZOFFSETTO:-0500
TZNAME:CDT
DTSTART:20300310T080000
END:DAYLIGHT
BEGIN:STANDARD
TZOFFSETFROM:-0500
TZOFFSETTO:-0600
TZNAME:CST
DTSTART:20301103T070000
END:STANDARD
END:VTIMEZONE
BEGIN:VEVENT
DTSTART;VALUE=DATE:20290903
DTEND;VALUE=DATE:20290904
DTSTAMP:20260424T114643
CREATED:20240726T143020Z
LAST-MODIFIED:20241212T171106Z
UID:10000332-1883088000-1883174399@kearneycounty.ne.gov
SUMMARY:Labor Day - Closed
DESCRIPTION:All Offices Closed
URL:https://kearneycounty.ne.gov/event/labor-day/2029-09-03/
LOCATION:NE
CATEGORIES:Holiday
END:VEVENT
BEGIN:VEVENT
DTSTART;TZID=America/Chicago:20290904T093000
DTEND;TZID=America/Chicago:20290904T093000
DTSTAMP:20260424T114643
CREATED:20251231T210032Z
LAST-MODIFIED:20251231T210032Z
UID:10000523-1883208600-1883208600@kearneycounty.ne.gov
SUMMARY:County Board Meeting
DESCRIPTION:This is a county board meeting. An agenda can be found on the Board Meetings page.
URL:https://kearneycounty.ne.gov/event/county-board-meeting/2029-09-04/
LOCATION:Kearney County Courthouse\, 424 N Colorado\, Minden\, NE\, 68959\, United States
CATEGORIES:County Board Meeting
END:VEVENT
BEGIN:VEVENT
DTSTART;TZID=America/Chicago:20290905T090000
DTEND;TZID=America/Chicago:20290905T163000
DTSTAMP:20260424T114643
CREATED:20251231T210257Z
LAST-MODIFIED:20251231T210257Z
UID:10000731-1883293200-1883320200@kearneycounty.ne.gov
SUMMARY:Driver's License Examiner
DESCRIPTION:2nd Floor Kearney County Courthouse
URL:https://kearneycounty.ne.gov/event/drivers-license-examiner/2029-09-05/
LOCATION:Kearney County Courthouse\, 424 N Colorado\, Minden\, NE\, 68959\, United States
END:VEVENT
BEGIN:VEVENT
DTSTART;TZID=America/Chicago:20290912T090000
DTEND;TZID=America/Chicago:20290912T163000
DTSTAMP:20260424T114643
CREATED:20251231T210257Z
LAST-MODIFIED:20251231T210257Z
UID:10000732-1883898000-1883925000@kearneycounty.ne.gov
SUMMARY:Driver's License Examiner
DESCRIPTION:2nd Floor Kearney County Courthouse
URL:https://kearneycounty.ne.gov/event/drivers-license-examiner/2029-09-12/
LOCATION:Kearney County Courthouse\, 424 N Colorado\, Minden\, NE\, 68959\, United States
END:VEVENT
BEGIN:VEVENT
DTSTART;TZID=America/Chicago:20290918T093000
DTEND;TZID=America/Chicago:20290918T093000
DTSTAMP:20260424T114643
CREATED:20251231T205439Z
LAST-MODIFIED:20251231T205440Z
UID:10000403-1884418200-1884418200@kearneycounty.ne.gov
SUMMARY:County Board Meeting
DESCRIPTION:This is a county board meeting. An agenda can be found on the Board Meetings page.
URL:https://kearneycounty.ne.gov/event/county-board-meeting-2/2029-09-18/
LOCATION:Kearney County Courthouse\, 424 N Colorado\, Minden\, NE\, 68959\, United States
CATEGORIES:County Board Meeting
END:VEVENT
BEGIN:VEVENT
DTSTART;TZID=America/Chicago:20290919T090000
DTEND;TZID=America/Chicago:20290919T163000
DTSTAMP:20260424T114643
CREATED:20251231T210257Z
LAST-MODIFIED:20251231T210257Z
UID:10000733-1884502800-1884529800@kearneycounty.ne.gov
SUMMARY:Driver's License Examiner
DESCRIPTION:2nd Floor Kearney County Courthouse
URL:https://kearneycounty.ne.gov/event/drivers-license-examiner/2029-09-19/
LOCATION:Kearney County Courthouse\, 424 N Colorado\, Minden\, NE\, 68959\, United States
END:VEVENT
BEGIN:VEVENT
DTSTART;TZID=America/Chicago:20290926T090000
DTEND;TZID=America/Chicago:20290926T163000
DTSTAMP:20260424T114643
CREATED:20251231T210257Z
LAST-MODIFIED:20251231T210257Z
UID:10000734-1885107600-1885134600@kearneycounty.ne.gov
SUMMARY:Driver's License Examiner
DESCRIPTION:2nd Floor Kearney County Courthouse
URL:https://kearneycounty.ne.gov/event/drivers-license-examiner/2029-09-26/
LOCATION:Kearney County Courthouse\, 424 N Colorado\, Minden\, NE\, 68959\, United States
END:VEVENT
END:VCALENDAR