BEGIN:VCALENDAR
VERSION:2.0
PRODID:-//Kearney County - ECPv6.15.20//NONSGML v1.0//EN
CALSCALE:GREGORIAN
METHOD:PUBLISH
X-ORIGINAL-URL:https://kearneycounty.ne.gov
X-WR-CALDESC:Events for Kearney County
REFRESH-INTERVAL;VALUE=DURATION:PT1H
X-Robots-Tag:noindex
X-PUBLISHED-TTL:PT1H
BEGIN:VTIMEZONE
TZID:America/Chicago
BEGIN:DAYLIGHT
TZOFFSETFROM:-0600
TZOFFSETTO:-0500
TZNAME:CDT
DTSTART:20280312T080000
END:DAYLIGHT
BEGIN:STANDARD
TZOFFSETFROM:-0500
TZOFFSETTO:-0600
TZNAME:CST
DTSTART:20281105T070000
END:STANDARD
BEGIN:DAYLIGHT
TZOFFSETFROM:-0600
TZOFFSETTO:-0500
TZNAME:CDT
DTSTART:20290311T080000
END:DAYLIGHT
BEGIN:STANDARD
TZOFFSETFROM:-0500
TZOFFSETTO:-0600
TZNAME:CST
DTSTART:20291104T070000
END:STANDARD
BEGIN:DAYLIGHT
TZOFFSETFROM:-0600
TZOFFSETTO:-0500
TZNAME:CDT
DTSTART:20300310T080000
END:DAYLIGHT
BEGIN:STANDARD
TZOFFSETFROM:-0500
TZOFFSETTO:-0600
TZNAME:CST
DTSTART:20301103T070000
END:STANDARD
END:VTIMEZONE
BEGIN:VEVENT
DTSTART;TZID=America/Chicago:20290206T093000
DTEND;TZID=America/Chicago:20290206T093000
DTSTAMP:20260419T131457
CREATED:20251231T210032Z
LAST-MODIFIED:20251231T210032Z
UID:10000516-1865064600-1865064600@kearneycounty.ne.gov
SUMMARY:County Board Meeting
DESCRIPTION:This is a county board meeting. An agenda can be found on the Board Meetings page.
URL:https://kearneycounty.ne.gov/event/county-board-meeting/2029-02-06/
LOCATION:Kearney County Courthouse\, 424 N Colorado\, Minden\, NE\, 68959\, United States
CATEGORIES:County Board Meeting
END:VEVENT
BEGIN:VEVENT
DTSTART;TZID=America/Chicago:20290207T090000
DTEND;TZID=America/Chicago:20290207T163000
DTSTAMP:20260419T131457
CREATED:20251231T210257Z
LAST-MODIFIED:20251231T210257Z
UID:10000701-1865149200-1865176200@kearneycounty.ne.gov
SUMMARY:Driver's License Examiner
DESCRIPTION:2nd Floor Kearney County Courthouse
URL:https://kearneycounty.ne.gov/event/drivers-license-examiner/2029-02-07/
LOCATION:Kearney County Courthouse\, 424 N Colorado\, Minden\, NE\, 68959\, United States
END:VEVENT
BEGIN:VEVENT
DTSTART;TZID=America/Chicago:20290214T090000
DTEND;TZID=America/Chicago:20290214T163000
DTSTAMP:20260419T131457
CREATED:20251231T210257Z
LAST-MODIFIED:20251231T210257Z
UID:10000702-1865754000-1865781000@kearneycounty.ne.gov
SUMMARY:Driver's License Examiner
DESCRIPTION:2nd Floor Kearney County Courthouse
URL:https://kearneycounty.ne.gov/event/drivers-license-examiner/2029-02-14/
LOCATION:Kearney County Courthouse\, 424 N Colorado\, Minden\, NE\, 68959\, United States
END:VEVENT
BEGIN:VEVENT
DTSTART;VALUE=DATE:20290219
DTEND;VALUE=DATE:20290220
DTSTAMP:20260419T131457
CREATED:20240821T153425Z
LAST-MODIFIED:20251231T205119Z
UID:10000315-1866153600-1866239999@kearneycounty.ne.gov
SUMMARY:President's Day - Closed
DESCRIPTION:All Offices Closed
URL:https://kearneycounty.ne.gov/event/presidents-day/2029-02-19/
LOCATION:NE
CATEGORIES:Holiday
END:VEVENT
BEGIN:VEVENT
DTSTART;TZID=America/Chicago:20290220T093000
DTEND;TZID=America/Chicago:20290220T093000
DTSTAMP:20260419T131457
CREATED:20251231T205439Z
LAST-MODIFIED:20251231T205440Z
UID:10000396-1866274200-1866274200@kearneycounty.ne.gov
SUMMARY:County Board Meeting
DESCRIPTION:This is a county board meeting. An agenda can be found on the Board Meetings page.
URL:https://kearneycounty.ne.gov/event/county-board-meeting-2/2029-02-20/
LOCATION:Kearney County Courthouse\, 424 N Colorado\, Minden\, NE\, 68959\, United States
CATEGORIES:County Board Meeting
END:VEVENT
BEGIN:VEVENT
DTSTART;TZID=America/Chicago:20290221T090000
DTEND;TZID=America/Chicago:20290221T163000
DTSTAMP:20260419T131457
CREATED:20251231T210257Z
LAST-MODIFIED:20251231T210257Z
UID:10000703-1866358800-1866385800@kearneycounty.ne.gov
SUMMARY:Driver's License Examiner
DESCRIPTION:2nd Floor Kearney County Courthouse
URL:https://kearneycounty.ne.gov/event/drivers-license-examiner/2029-02-21/
LOCATION:Kearney County Courthouse\, 424 N Colorado\, Minden\, NE\, 68959\, United States
END:VEVENT
BEGIN:VEVENT
DTSTART;TZID=America/Chicago:20290228T090000
DTEND;TZID=America/Chicago:20290228T163000
DTSTAMP:20260419T131457
CREATED:20251231T210257Z
LAST-MODIFIED:20251231T210257Z
UID:10000704-1866963600-1866990600@kearneycounty.ne.gov
SUMMARY:Driver's License Examiner
DESCRIPTION:2nd Floor Kearney County Courthouse
URL:https://kearneycounty.ne.gov/event/drivers-license-examiner/2029-02-28/
LOCATION:Kearney County Courthouse\, 424 N Colorado\, Minden\, NE\, 68959\, United States
END:VEVENT
END:VCALENDAR